BEGIN:VCALENDAR
VERSION:2.0
PRODID:-//Metro-West Alano Club - ECPv6.11.2.1//NONSGML v1.0//EN
CALSCALE:GREGORIAN
METHOD:PUBLISH
X-WR-CALNAME:Metro-West Alano Club
X-ORIGINAL-URL:http://www.metrowestalano.org
X-WR-CALDESC:Events for Metro-West Alano Club
REFRESH-INTERVAL;VALUE=DURATION:PT1H
X-Robots-Tag:noindex
X-PUBLISHED-TTL:PT1H
BEGIN:VTIMEZONE
TZID:America/Detroit
BEGIN:DAYLIGHT
TZOFFSETFROM:-0500
TZOFFSETTO:-0400
TZNAME:EDT
DTSTART:20250309T070000
END:DAYLIGHT
BEGIN:STANDARD
TZOFFSETFROM:-0400
TZOFFSETTO:-0500
TZNAME:EST
DTSTART:20251102T060000
END:STANDARD
END:VTIMEZONE
BEGIN:VEVENT
DTSTART;TZID=America/Detroit:20250520T180000
DTEND;TZID=America/Detroit:20250523T020000
DTSTAMP:20260420T004049
CREATED:20240128T225953Z
LAST-MODIFIED:20250504T174110Z
UID:18165-1747764000-1747965600@www.metrowestalano.org
SUMMARY:Charity Poker Event - May 20-23\, 2025
DESCRIPTION:We’ll need volunteers for both the event\, and the counter at the club. \nTue – Fri \nShift 1 = 6pm-10pm \nShift 2 – 10pm-2am
URL:http://www.metrowestalano.org/event/charity-poker-event-april-17-20th-2024/
END:VEVENT
BEGIN:VEVENT
DTSTART;TZID=America/Detroit:20250604T130000
DTEND;TZID=America/Detroit:20250604T180000
DTSTAMP:20260420T004049
CREATED:20220807T180444Z
LAST-MODIFIED:20250604T212550Z
UID:18044-1749042000-1749060000@www.metrowestalano.org
SUMMARY:MWAC Ice Cream Social - Sunday June 22nd 1-6pm
DESCRIPTION:Come out for the Ice Cream Social before the Open Talk \nA variety of toppings will be available and included in the cost.
URL:http://www.metrowestalano.org/event/mwac-ice-cream-social-sunday-august-28th-5-7pm/
END:VEVENT
BEGIN:VEVENT
DTSTART;TZID=America/Detroit:20250610T190000
DTEND;TZID=America/Detroit:20250610T200000
DTSTAMP:20260420T004049
CREATED:20220307T150408Z
LAST-MODIFIED:20250604T212141Z
UID:17994-1749582000-1749585600@www.metrowestalano.org
SUMMARY:MWAC Board of Directors Meeting - June 10th - 7:00 pm
DESCRIPTION:The Board of Directors for the Metro-West Alano Club will be meeting on Tuesday\, June 10th at 7:00 pm at our business location.  \nMembership suggestions or topic should be submitted in advance\, to a board member.
URL:http://www.metrowestalano.org/event/mwac-board-of-directors-meeting-april-12th-7pm/
LOCATION:Metro-West Alano Club\, 27225 Grand River Avenue\, Redford\, MI\, 48240\, United States
END:VEVENT
BEGIN:VEVENT
DTSTART;TZID=America/Detroit:20250626T190000
DTEND;TZID=America/Detroit:20250626T200000
DTSTAMP:20260420T004049
CREATED:20230412T142236Z
LAST-MODIFIED:20250604T212102Z
UID:18126-1750964400-1750968000@www.metrowestalano.org
SUMMARY:General Membership Meeting - Thursday\, June 26th at 7:00pm
DESCRIPTION:General Membership Meeting planned for Thursday\, June 26th at 7:00PM \nPlease direct concerns and Ideas to a Board Member
URL:http://www.metrowestalano.org/event/general-membership-meeting-thursday-may-18th-at-630pm/
LOCATION:Metro-West Alano Club\, 27225 Grand River Avenue\, Redford\, MI\, 48240\, United States
END:VEVENT
BEGIN:VEVENT
DTSTART;TZID=America/Detroit:20250817T130000
DTEND;TZID=America/Detroit:20250817T180000
DTSTAMP:20260420T004049
CREATED:20210610T000429Z
LAST-MODIFIED:20250604T212417Z
UID:17922-1755435600-1755453600@www.metrowestalano.org
SUMMARY:MWAC Membership Appreciation Party - Aug 17th 2025
DESCRIPTION:Metro-West Alano Club – Annual Membership Appreciation Party and Membership Drive 2024 \n  \nWhen: Sunday\, August 17th                         Time: 2pm – 6pm \nLocation: 27225 Grand River\, Redford\, MI 48240 – 313-286-3622 \n  \nFood and fellowship\, fun and laughter\, 50/50 Raffle\, Lottery Board\, and more! \n  \nHamburgers\, Hot Dogs\, BBQ Chicken\, Cake\, and beverages are provided\, bring a dish to pass if you wish. \n  \nThis event is FREE to our current members and their immediate family. \nNon-Members are welcome to attend for a $10.00 charge or sign up for a month month membership. \n  \nMEMBERSHIP DRIVE \n– Non-members may become a member at this event only and waive the                 entrance charge.  \n– At this event only\, the $10 membership initiation fee will be waived. \n– Or\, $30 for 3 months\, $60 for 6 months (w/ $5 card)\, or $110 for 12 months (w/ $10 card) \n  \nBring your friends\, we hope to see you there!
URL:http://www.metrowestalano.org/event/mwac-membership-appreciation-bbq-aug-28th/
LOCATION:Metro-West Alano Club\, 27225 Grand River Avenue\, Redford\, MI\, 48240\, United States
END:VEVENT
END:VCALENDAR