BEGIN:VCALENDAR
VERSION:2.0
PRODID:-//Metro-West Alano Club - ECPv6.11.2.1//NONSGML v1.0//EN
CALSCALE:GREGORIAN
METHOD:PUBLISH
X-WR-CALNAME:Metro-West Alano Club
X-ORIGINAL-URL:http://www.metrowestalano.org
X-WR-CALDESC:Events for Metro-West Alano Club
REFRESH-INTERVAL;VALUE=DURATION:PT1H
X-Robots-Tag:noindex
X-PUBLISHED-TTL:PT1H
BEGIN:VTIMEZONE
TZID:America/Detroit
BEGIN:DAYLIGHT
TZOFFSETFROM:-0500
TZOFFSETTO:-0400
TZNAME:EDT
DTSTART:20200308T070000
END:DAYLIGHT
BEGIN:STANDARD
TZOFFSETFROM:-0400
TZOFFSETTO:-0500
TZNAME:EST
DTSTART:20201101T060000
END:STANDARD
END:VTIMEZONE
BEGIN:VEVENT
DTSTART;TZID=America/Detroit:20201224T220000
DTEND;TZID=America/Detroit:20201225T020000
DTSTAMP:20260420T225330
CREATED:20201219T191436Z
LAST-MODIFIED:20201219T191436Z
UID:17871-1608847200-1608861600@www.metrowestalano.org
SUMMARY:MWAC Christmas Eve Alkathon
DESCRIPTION:METRO-WEST ALANO CLUB \n10pm – 2am Christmas Eve \n  \nStarting at 10 PM Thursday \nDecember 24th\, 2020 \nUntil \n2 AM Friday \nDecember 25th\, 2020 \n  \nFree Coffee  \n  Metro-West Alano Club\n27225 Grand River Redford\, MI 48240 \n313-286-3622
URL:http://www.metrowestalano.org/event/mwac-christmas-eve-alkathon/
LOCATION:MI
END:VEVENT
BEGIN:VEVENT
DTSTART;TZID=America/Detroit:20201125T220000
DTEND;TZID=America/Detroit:20201126T220000
DTSTAMP:20260420T225330
CREATED:20201028T190751Z
LAST-MODIFIED:20201028T190751Z
UID:17857-1606341600-1606428000@www.metrowestalano.org
SUMMARY:Thanksgiving 2020 Alkathon
DESCRIPTION:METRO-WEST ALANO CLUB \n24 hr. ALKATHON \n  \nStarting at 10 PM Wednesday \nNovember 25th\, 2020 \nUntil \n10 PM Thursday  \nNovember 26th\, 2020 \n  \nFree Coffee  \n  Metro-West Alano Club\n27225 Grand River Redford\, MI 48240 \n313-286-3622
URL:http://www.metrowestalano.org/event/thanksgiving-2020-alkathon/
LOCATION:MI
END:VEVENT
BEGIN:VEVENT
DTSTART;VALUE=DATE:20200811
DTEND;VALUE=DATE:20200812
DTSTAMP:20260420T225330
CREATED:20200810T222736Z
LAST-MODIFIED:20200810T233120Z
UID:17496-1597104000-1597190399@www.metrowestalano.org
SUMMARY:Test Event
DESCRIPTION:Test Event here
URL:http://www.metrowestalano.org/event/test/
LOCATION:Metro-West Alano Club\, 27225 Grand River Avenue\, Redford\, MI\, 48240\, United States
END:VEVENT
END:VCALENDAR