BEGIN:VCALENDAR
VERSION:2.0
PRODID:-//Metro-West Alano Club - ECPv6.11.2.1//NONSGML v1.0//EN
CALSCALE:GREGORIAN
METHOD:PUBLISH
X-WR-CALNAME:Metro-West Alano Club
X-ORIGINAL-URL:http://www.metrowestalano.org
X-WR-CALDESC:Events for Metro-West Alano Club
REFRESH-INTERVAL;VALUE=DURATION:PT1H
X-Robots-Tag:noindex
X-PUBLISHED-TTL:PT1H
BEGIN:VTIMEZONE
TZID:America/Detroit
BEGIN:DAYLIGHT
TZOFFSETFROM:-0500
TZOFFSETTO:-0400
TZNAME:EDT
DTSTART:20210314T070000
END:DAYLIGHT
BEGIN:STANDARD
TZOFFSETFROM:-0400
TZOFFSETTO:-0500
TZNAME:EST
DTSTART:20211107T060000
END:STANDARD
END:VTIMEZONE
BEGIN:VEVENT
DTSTART;TZID=America/Detroit:20210410T100000
DTEND;TZID=America/Detroit:20210410T140000
DTSTAMP:20260421T165450
CREATED:20210211T232302Z
LAST-MODIFIED:20210211T232302Z
UID:17895-1618048800-1618063200@www.metrowestalano.org
SUMMARY:MWAC Board Elections (Saturday In-Person Voting)
DESCRIPTION:You must be present to vote. For those who cannot make it to the club on Election Day (Membership Meeting on Thursday April 15th\, 2021\, voting can be done on Saturday\, April 10\, 2021 from 10:00 to 2:00.
URL:http://www.metrowestalano.org/event/mwac-board-elections-saturday-in-person-voting/
LOCATION:Metro-West Alano Club\, 27225 Grand River Avenue\, Redford\, MI\, 48240\, United States
END:VEVENT
BEGIN:VEVENT
DTSTART;TZID=America/Detroit:20210415T190000
DTEND;TZID=America/Detroit:20210415T200000
DTSTAMP:20260421T165450
CREATED:20210211T232637Z
LAST-MODIFIED:20210211T232637Z
UID:17897-1618513200-1618516800@www.metrowestalano.org
SUMMARY:Metro-West Alano Club: General Membership Meeting + BOD Elections - April 15th\, 2020 at 7pm
DESCRIPTION:The General Membership Meeting for the Metro-West Alano Club will be meeting on Thursday\, April15th at 7pm at our business location. \nMembership suggestions or topic should be submitted in advance\, or deposited in the ‘Suggestion Box’ on the Coffee Bar counter in advance of this meeting. \nBOARD ELECTIONS \nWe are now accepting nominations for the following Board of Director positions: \nOfficer – Vice Chairman  \nYou must have two (2) years of continuous sobriety and 2 years continuous membership in the club. \n Officer – Treasurer \nYou must have five (5) years of continuous sobriety and 2 years continuous membership in the club. \n Meeting Director and Membership Director  \nYou must have two (2) years of continues sobriety and 2 years of continuous membership in the club.  \n Nominations will be accepted through March 31\, 2021 and the election will be held at the club on April 15\, 2021.   \n You must be present to vote.  For those who cannot make it to the club on Election Day\, voting can be done on Saturday\, April 10\, 2021 from 10:00 to 2:00.
URL:http://www.metrowestalano.org/event/metro-west-alano-club-general-membership-meeting-bod-elections-april-15th-2020-at-7pm/
LOCATION:Metro-West Alano Club\, 27225 Grand River Avenue\, Redford\, MI\, 48240\, United States
END:VEVENT
END:VCALENDAR