BEGIN:VCALENDAR
VERSION:2.0
PRODID:-//Metro-West Alano Club - ECPv6.11.2.1//NONSGML v1.0//EN
CALSCALE:GREGORIAN
METHOD:PUBLISH
X-WR-CALNAME:Metro-West Alano Club
X-ORIGINAL-URL:http://www.metrowestalano.org
X-WR-CALDESC:Events for Metro-West Alano Club
REFRESH-INTERVAL;VALUE=DURATION:PT1H
X-Robots-Tag:noindex
X-PUBLISHED-TTL:PT1H
BEGIN:VTIMEZONE
TZID:America/Detroit
BEGIN:DAYLIGHT
TZOFFSETFROM:-0500
TZOFFSETTO:-0400
TZNAME:EDT
DTSTART:20220313T070000
END:DAYLIGHT
BEGIN:STANDARD
TZOFFSETFROM:-0400
TZOFFSETTO:-0500
TZNAME:EST
DTSTART:20221106T060000
END:STANDARD
END:VTIMEZONE
BEGIN:VEVENT
DTSTART;TZID=America/Detroit:20220213T153000
DTEND;TZID=America/Detroit:20220213T230000
DTSTAMP:20260421T001957
CREATED:20211219T230119Z
LAST-MODIFIED:20220206T214025Z
UID:17959-1644766200-1644793200@www.metrowestalano.org
SUMMARY:MWAC Super Bowl Party - Feb 13th -  3:30 to 11:00 pm
DESCRIPTION:MWAC Super Bowl Party – Feb 13th 3:30 to11:00 pm \nThere will be a sign-up sheet to help volunteer and/or bring Food and Deserts closer to the event. \nFootball Squares: To be sold the 2 weeks prior to the event \n\n$5.00 Football Squares $5.00 each square.  \n\n4  Quarterly Winners\, One each quarter for $100.00\nOther squares may be available and determined by the BOD and Activities Committee.\n\n\nRaffle Ticket for Gift Cards on the day of the event.\n\n2x Gas cards @ $20.00 each (Donated by a Board Member)\n2x Meijer Gift Cards @ 20.00 each\n\n\n\nSuper Bowl Menu: Great Food for $5.00 \n\nBBQ Burgers – Jon M #161\nBake Bean – Larry B #61\nMac & Cheese – Michelle R #50\nSalsa – Michelle R #50\nChips & Dip – Paige M #37\nPotato Salad – Michelle R #50\nTaco Salad  – Shannon D #95\nDeserts  – Mo B #52
URL:http://www.metrowestalano.org/event/mwac-super-bowl-party-feb-13th-330-to1100-pm/
LOCATION:Metro-West Alano Club\, 27225 Grand River Avenue\, Redford\, MI\, 48240\, United States
END:VEVENT
BEGIN:VEVENT
DTSTART;TZID=America/Detroit:20220219T170000
DTEND;TZID=America/Detroit:20220219T200000
DTSTAMP:20260421T001957
CREATED:20220125T201252Z
LAST-MODIFIED:20220125T201252Z
UID:17981-1645290000-1645300800@www.metrowestalano.org
SUMMARY:Sober Rider's Spaghetti Dinner - 5pm Feb 19th at MWAC
DESCRIPTION:
URL:http://www.metrowestalano.org/event/sober-riders-spaghetti-dinner-5pm-feb-19th-at-mwac/
LOCATION:Metro-West Alano Club\, 27225 Grand River Avenue\, Redford\, MI\, 48240\, United States
END:VEVENT
END:VCALENDAR