BEGIN:VCALENDAR
VERSION:2.0
PRODID:-//Metro-West Alano Club - ECPv6.11.2.1//NONSGML v1.0//EN
CALSCALE:GREGORIAN
METHOD:PUBLISH
X-WR-CALNAME:Metro-West Alano Club
X-ORIGINAL-URL:http://www.metrowestalano.org
X-WR-CALDESC:Events for Metro-West Alano Club
REFRESH-INTERVAL;VALUE=DURATION:PT1H
X-Robots-Tag:noindex
X-PUBLISHED-TTL:PT1H
BEGIN:VTIMEZONE
TZID:America/Detroit
BEGIN:DAYLIGHT
TZOFFSETFROM:-0500
TZOFFSETTO:-0400
TZNAME:EDT
DTSTART:20220313T070000
END:DAYLIGHT
BEGIN:STANDARD
TZOFFSETFROM:-0400
TZOFFSETTO:-0500
TZNAME:EST
DTSTART:20221106T060000
END:STANDARD
END:VTIMEZONE
BEGIN:VEVENT
DTSTART;TZID=America/Detroit:20220430T100000
DTEND;TZID=America/Detroit:20220430T180000
DTSTAMP:20260420T210659
CREATED:20220321T000500Z
LAST-MODIFIED:20220324T194640Z
UID:18005-1651312800-1651341600@www.metrowestalano.org
SUMMARY:MWAC Board of Directors "Early" Voting - Saturday\, April 30th 10am-6pm
DESCRIPTION:EARLY voting – for those that want to vote early or can’t make it to the general membership meeting on May 5th
URL:http://www.metrowestalano.org/event/mwac-board-of-directors-early-voting-saturday-april-30th-11-3pm/
LOCATION:Metro-West Alano Club\, 27225 Grand River Avenue\, Redford\, MI\, 48240\, United States
END:VEVENT
END:VCALENDAR