BEGIN:VCALENDAR
VERSION:2.0
PRODID:-//Metro-West Alano Club - ECPv6.11.2.1//NONSGML v1.0//EN
CALSCALE:GREGORIAN
METHOD:PUBLISH
X-WR-CALNAME:Metro-West Alano Club
X-ORIGINAL-URL:http://www.metrowestalano.org
X-WR-CALDESC:Events for Metro-West Alano Club
REFRESH-INTERVAL;VALUE=DURATION:PT1H
X-Robots-Tag:noindex
X-PUBLISHED-TTL:PT1H
BEGIN:VTIMEZONE
TZID:America/Detroit
BEGIN:DAYLIGHT
TZOFFSETFROM:-0500
TZOFFSETTO:-0400
TZNAME:EDT
DTSTART:20220313T070000
END:DAYLIGHT
BEGIN:STANDARD
TZOFFSETFROM:-0400
TZOFFSETTO:-0500
TZNAME:EST
DTSTART:20221106T060000
END:STANDARD
END:VTIMEZONE
BEGIN:VEVENT
DTSTART;TZID=America/Detroit:20220721T170000
DTEND;TZID=America/Detroit:20220721T200000
DTSTAMP:20260420T155605
CREATED:20220321T000329Z
LAST-MODIFIED:20220513T172514Z
UID:18003-1658422800-1658433600@www.metrowestalano.org
SUMMARY:MWAC General Membership Meeting – July 21st – 6:30pm
DESCRIPTION:General Membership Meeting \nSpecial Elections – Starting at 5pm to 6:30pm \n 
URL:http://www.metrowestalano.org/event/mwac-general-membership-meeting-may-5th-630pm/
LOCATION:Metro-West Alano Club\, 27225 Grand River Avenue\, Redford\, MI\, 48240\, United States
END:VEVENT
BEGIN:VEVENT
DTSTART;TZID=America/Detroit:20220723T190000
DTEND;TZID=America/Detroit:20220723T220000
DTSTAMP:20260420T155605
CREATED:20220721T152601Z
LAST-MODIFIED:20220723T171312Z
UID:18031-1658602800-1658613600@www.metrowestalano.org
SUMMARY:MWAC GAME NIGHT - Sat July 23rd 7-10pm
DESCRIPTION:MWAC GAME NIGHT \nSaturday\, July 23rd\, 2022 \n7-10 pm \n  \nBoard Games \nCard Games \nDice \n  \nBring a game to share if you like! \n  \nThis a no cost event
URL:http://www.metrowestalano.org/event/mwac-game-night/
LOCATION:Metro-West Alano Club\, 27225 Grand River Avenue\, Redford\, MI\, 48240\, United States
END:VEVENT
END:VCALENDAR