BEGIN:VCALENDAR
VERSION:2.0
PRODID:-//Metro-West Alano Club - ECPv6.11.2.1//NONSGML v1.0//EN
CALSCALE:GREGORIAN
METHOD:PUBLISH
X-WR-CALNAME:Metro-West Alano Club
X-ORIGINAL-URL:http://www.metrowestalano.org
X-WR-CALDESC:Events for Metro-West Alano Club
REFRESH-INTERVAL;VALUE=DURATION:PT1H
X-Robots-Tag:noindex
X-PUBLISHED-TTL:PT1H
BEGIN:VTIMEZONE
TZID:America/Detroit
BEGIN:DAYLIGHT
TZOFFSETFROM:-0500
TZOFFSETTO:-0400
TZNAME:EDT
DTSTART:20220313T070000
END:DAYLIGHT
BEGIN:STANDARD
TZOFFSETFROM:-0400
TZOFFSETTO:-0500
TZNAME:EST
DTSTART:20221106T060000
END:STANDARD
END:VTIMEZONE
BEGIN:VEVENT
DTSTART;TZID=America/Detroit:20220813T140000
DTEND;TZID=America/Detroit:20220813T180000
DTSTAMP:20260420T140431
CREATED:20220513T172925Z
LAST-MODIFIED:20220807T180159Z
UID:18027-1660399200-1660413600@www.metrowestalano.org
SUMMARY:MWAC Membership Appreciation Party - August 13th
DESCRIPTION:Metro-West Alano Club – Annual Membership Appreciation Party and Membership Drive 2022 \n  \nWhen: Saturday\, August 13th  \nTime: 2pm – 6pm \nLocation: 27225 Grand River\, Redford\, MI 48240 – 313-286-3622 \n  \nFood and fellowship\, fun and laughter\, 50/50\, Raffle and more. \n  \nChicken\, Subs\, Cake\, and beverages are provided\, bring a dish to pass if you wish. \n  \nThis event is FREE to our current members and their immediate family. \nNon-Members are welcome to attend for a $12.00 charge. \n  \nMEMBERSHIP DRIVE \n– Non-members may become a member at this event only and waive the entrance charge.  \n– In addition\, at this event only\, the $10 membership initiation fee will be waived. \n– Membership is $12 per month or $120 per year. \n  \nBring your friends\, we hope to see you there!
URL:http://www.metrowestalano.org/event/mwac-membership-appreciation-dinner-august-13th/
LOCATION:Metro-West Alano Club\, 27225 Grand River Avenue\, Redford\, MI\, 48240\, United States
END:VEVENT
BEGIN:VEVENT
DTSTART;TZID=America/Detroit:20220828T190000
DTEND;TZID=America/Detroit:20220828T200000
DTSTAMP:20260420T140431
CREATED:20211219T224136Z
LAST-MODIFIED:20220821T191813Z
UID:17955-1661713200-1661716800@www.metrowestalano.org
SUMMARY:MWAC Open Talk - August 28th 2022 - 7pm
DESCRIPTION:‘Sunday Night Live’ Open Talk \n  \nMetro-West Alano Club \n27225 Grand River Avenue\, Redford\, MI 48240 \n  \nSunday August 28th\, 2022 at 7:00pm \nKevin R. will be the Speaker \n  \nAll are welcome \nCoffee will be provided \nCome Enjoy Our Smoke Free Club \n 
URL:http://www.metrowestalano.org/event/mwac-open-talk-christmas-eve-december-24th-2021-1pm/
LOCATION:Metro-West Alano Club\, 27225 Grand River Avenue\, Redford\, MI\, 48240\, United States
END:VEVENT
END:VCALENDAR