BEGIN:VCALENDAR
VERSION:2.0
PRODID:-//Metro-West Alano Club - ECPv6.11.2.1//NONSGML v1.0//EN
CALSCALE:GREGORIAN
METHOD:PUBLISH
X-WR-CALNAME:Metro-West Alano Club
X-ORIGINAL-URL:http://www.metrowestalano.org
X-WR-CALDESC:Events for Metro-West Alano Club
REFRESH-INTERVAL;VALUE=DURATION:PT1H
X-Robots-Tag:noindex
X-PUBLISHED-TTL:PT1H
BEGIN:VTIMEZONE
TZID:America/Detroit
BEGIN:DAYLIGHT
TZOFFSETFROM:-0500
TZOFFSETTO:-0400
TZNAME:EDT
DTSTART:20230312T070000
END:DAYLIGHT
BEGIN:STANDARD
TZOFFSETFROM:-0400
TZOFFSETTO:-0500
TZNAME:EST
DTSTART:20231105T060000
END:STANDARD
END:VTIMEZONE
BEGIN:VEVENT
DTSTART;TZID=America/Detroit:20230415T100000
DTEND;TZID=America/Detroit:20230415T140000
DTSTAMP:20260420T003343
CREATED:20230408T173317Z
LAST-MODIFIED:20230408T173317Z
UID:18119-1681552800-1681567200@www.metrowestalano.org
SUMMARY:MWAC Board of Directors - Early/Absentee Voting - Sat April 15th
DESCRIPTION:Early/Absentee voting will occur on Saturday\, April 15th from 10am to 2pm at the club.
URL:http://www.metrowestalano.org/event/mwac-board-of-directors-early-absentee-voting-sat-april-15th/
LOCATION:MI
END:VEVENT
BEGIN:VEVENT
DTSTART;TZID=America/Detroit:20230416T160000
DTEND;TZID=America/Detroit:20230416T180000
DTSTAMP:20260420T003343
CREATED:20230310T021617Z
LAST-MODIFIED:20230412T134659Z
UID:18110-1681660800-1681668000@www.metrowestalano.org
SUMMARY:MCYPAA Meeting
DESCRIPTION:
URL:http://www.metrowestalano.org/event/myccypa-meeting/
LOCATION:MI
END:VEVENT
BEGIN:VEVENT
DTSTART;TZID=America/Detroit:20230420T183000
DTEND;TZID=America/Detroit:20230420T200000
DTSTAMP:20260420T003343
CREATED:20220731T213339Z
LAST-MODIFIED:20230408T173156Z
UID:18035-1682015400-1682020800@www.metrowestalano.org
SUMMARY:General Membership Meeting & BOD Voting -  April 20th at 6:30pm
DESCRIPTION:Board of Directors Voting will be held from 5:30pm – 6:30pm \nThe next General Membership Meeting will occur on Thursday\, April 20th.   \n 
URL:http://www.metrowestalano.org/event/special-election-general-membership-meeting/
LOCATION:Metro-West Alano Club\, 27225 Grand River Avenue\, Redford\, MI\, 48240\, United States
END:VEVENT
BEGIN:VEVENT
DTSTART;TZID=America/Detroit:20230423T090000
DTEND;TZID=America/Detroit:20230423T120000
DTSTAMP:20260420T003343
CREATED:20211122T000842Z
LAST-MODIFIED:20230408T172322Z
UID:17948-1682240400-1682251200@www.metrowestalano.org
SUMMARY:MWAC Pancake & Sausage Breakfast - Sunday\, April 23rd from 9am-Noon
DESCRIPTION:MWAC Pancake & Sausage Breakfast \nSunday\, April 23rd from 9am-  Noon \n4 Pancakes\, 4 Sausage\, and water or coffee for $6.00 \n(non-member add $2.00) \n  \nPlease come out and  support the activities committee and your Club.
URL:http://www.metrowestalano.org/event/mwac-pancake-sausage-breakfast-sunday-dec-5th-from-9am-noon/
LOCATION:Metro-West Alano Club\, 27225 Grand River Avenue\, Redford\, MI\, 48240\, United States
END:VEVENT
END:VCALENDAR