BEGIN:VCALENDAR
VERSION:2.0
PRODID:-//Metro-West Alano Club - ECPv6.11.2.1//NONSGML v1.0//EN
CALSCALE:GREGORIAN
METHOD:PUBLISH
X-WR-CALNAME:Metro-West Alano Club
X-ORIGINAL-URL:http://www.metrowestalano.org
X-WR-CALDESC:Events for Metro-West Alano Club
REFRESH-INTERVAL;VALUE=DURATION:PT1H
X-Robots-Tag:noindex
X-PUBLISHED-TTL:PT1H
BEGIN:VTIMEZONE
TZID:America/Detroit
BEGIN:DAYLIGHT
TZOFFSETFROM:-0500
TZOFFSETTO:-0400
TZNAME:EDT
DTSTART:20230312T070000
END:DAYLIGHT
BEGIN:STANDARD
TZOFFSETFROM:-0400
TZOFFSETTO:-0500
TZNAME:EST
DTSTART:20231105T060000
END:STANDARD
END:VTIMEZONE
BEGIN:VEVENT
DTSTART;TZID=America/Detroit:20230520T100000
DTEND;TZID=America/Detroit:20230520T120000
DTSTAMP:20260419T225006
CREATED:20230412T140858Z
LAST-MODIFIED:20230412T141312Z
UID:18123-1684576800-1684584000@www.metrowestalano.org
SUMMARY:Metro West Alano Club Outdoor Beautification Day - Sat\, May 20th 10-2pm
DESCRIPTION:The club is planning an outdoor Beautification Day – planned for Saturday\, May 20th from 10-2pm.  We plan to serve a lunch at the end of the activity.  A general sign-up list will be available at the club in short order.  We also expect to have a good turn-out from those doing community service at the club.  There will be a variety of tasks to be completed\, and we welcome anyone who’d like to help. \nLook for the sign-up sheet and more information coming soon!
URL:http://www.metrowestalano.org/event/metro-west-alano-club-outdoor-beautification-day-sat-may-20th-10-2pm/
LOCATION:MI
END:VEVENT
END:VCALENDAR